Package: cellxgenedp Version: 1.12.1 Command: /Library/Frameworks/R.framework/Resources/bin/R CMD build --keep-empty-dirs --no-resave-data cellxgenedp StartedAt: 2025-10-13 20:49:58 -0400 (Mon, 13 Oct 2025) EndedAt: 2025-10-13 20:51:53 -0400 (Mon, 13 Oct 2025) EllapsedTime: 114.8 seconds RetCode: 0 Status: OK PackageFile: cellxgenedp_1.12.1.tar.gz PackageFileSize: 472 KiB