Package: cellscape Version: 1.34.0 Command: /home/biocbuild/bbs-3.22-bioc/R/bin/R CMD INSTALL cellscape StartedAt: 2025-11-11 15:13:35 -0500 (Tue, 11 Nov 2025) EndedAt: 2025-11-11 15:13:45 -0500 (Tue, 11 Nov 2025) EllapsedTime: 10.0 seconds RetCode: 0 Status: OK