Package: cellscape Version: 1.34.0 Command: /Library/Frameworks/R.framework/Resources/bin/R CMD INSTALL cellscape StartedAt: 2025-11-03 15:15:59 -0500 (Mon, 03 Nov 2025) EndedAt: 2025-11-03 15:16:23 -0500 (Mon, 03 Nov 2025) EllapsedTime: 23.9 seconds RetCode: 0 Status: OK