Package: cellscape Version: 1.34.0 Command: /Library/Frameworks/R.framework/Resources/bin/R CMD build --keep-empty-dirs --no-resave-data cellscape StartedAt: 2025-11-03 16:23:41 -0500 (Mon, 03 Nov 2025) EndedAt: 2025-11-03 16:23:52 -0500 (Mon, 03 Nov 2025) EllapsedTime: 11.3 seconds RetCode: 0 Status: OK PackageFile: cellscape_1.34.0.tar.gz PackageFileSize: 897.2 KiB