Package: cellscape Version: 1.34.0 Command: rm -rf cellscape.buildbin-libdir && mkdir cellscape.buildbin-libdir && /Users/biocbuild/BBS/utils/build-universal.sh cellscape_1.34.0.tar.gz /Library/Frameworks/R.framework/Resources/bin/R cellscape.buildbin-libdir StartedAt: 2025-11-04 01:31:45 -0500 (Tue, 04 Nov 2025) EndedAt: 2025-11-04 01:31:52 -0500 (Tue, 04 Nov 2025) EllapsedTime: 7.0 seconds RetCode: 0 Status: OK PackageFile: cellscape_1.34.0.tgz PackageFileSize: 884.4 KiB