Package: cellscape Version: 1.32.0 Command: /home/biocbuild/R/R/bin/R CMD INSTALL cellscape StartedAt: 2025-10-13 20:20:28 -0000 (Mon, 13 Oct 2025) EndedAt: 2025-10-13 20:20:32 -0000 (Mon, 13 Oct 2025) EllapsedTime: 4.6 seconds RetCode: 0 Status: OK