Package: cellscape Version: 1.32.0 Command: /home/biocbuild/R/R/bin/R CMD build --keep-empty-dirs --no-resave-data cellscape StartedAt: 2025-10-13 23:28:34 -0000 (Mon, 13 Oct 2025) EndedAt: 2025-10-13 23:28:45 -0000 (Mon, 13 Oct 2025) EllapsedTime: 11.0 seconds RetCode: 0 Status: OK PackageFile: cellscape_1.32.0.tar.gz PackageFileSize: 1.004 MiB