Package: cellmigRation Version: 1.18.0 Command: /home/biocbuild/bbs-3.22-bioc/R/bin/R CMD INSTALL cellmigRation StartedAt: 2025-10-31 15:17:45 -0400 (Fri, 31 Oct 2025) EndedAt: 2025-10-31 15:18:06 -0400 (Fri, 31 Oct 2025) EllapsedTime: 21.8 seconds RetCode: 0 Status: OK