Package: cellmigRation Version: 1.18.0 Command: /home/biocbuild/bbs-3.22-bioc/R/bin/R CMD build --keep-empty-dirs --no-resave-data --md5 cellmigRation StartedAt: 2025-11-02 16:58:18 -0500 (Sun, 02 Nov 2025) EndedAt: 2025-11-02 17:00:30 -0500 (Sun, 02 Nov 2025) EllapsedTime: 132.1 seconds RetCode: 0 Status: OK PackageFile: cellmigRation_1.18.0.tar.gz PackageFileSize: 1.158 MiB