Package: cellmig Version: 1.0.0 Command: /home/biocbuild/bbs-3.22-bioc/R/bin/R CMD INSTALL cellmig StartedAt: 2025-11-17 17:09:43 -0500 (Mon, 17 Nov 2025) EndedAt: 2025-11-17 17:12:53 -0500 (Mon, 17 Nov 2025) EllapsedTime: 190.5 seconds RetCode: 0 Status: OK