Package: cellity Version: 1.38.0 Command: /home/biocbuild/bbs-3.22-bioc/R/bin/R CMD INSTALL cellity StartedAt: 2025-11-11 15:43:47 -0500 (Tue, 11 Nov 2025) EndedAt: 2025-11-11 15:44:03 -0500 (Tue, 11 Nov 2025) EllapsedTime: 16.5 seconds RetCode: 0 Status: OK