Package: cellity Version: 1.38.0 Command: /home/biocbuild/bbs-3.22-bioc/R/bin/R CMD build --keep-empty-dirs --no-resave-data --md5 cellity StartedAt: 2025-11-11 16:47:08 -0500 (Tue, 11 Nov 2025) EndedAt: 2025-11-11 16:48:17 -0500 (Tue, 11 Nov 2025) EllapsedTime: 69.0 seconds RetCode: 0 Status: OK PackageFile: cellity_1.38.0.tar.gz PackageFileSize: 1.234 MiB