Package: cellity Version: 1.36.0 Command: /home/biocbuild/R/R/bin/R CMD build --keep-empty-dirs --no-resave-data cellity StartedAt: 2025-10-13 23:26:54 -0000 (Mon, 13 Oct 2025) EndedAt: 2025-10-13 23:28:34 -0000 (Mon, 13 Oct 2025) EllapsedTime: 100.0 seconds RetCode: 0 Status: OK PackageFile: cellity_1.36.0.tar.gz PackageFileSize: 1.24 MiB