Package: cellity Version: 1.38.0 Command: /Library/Frameworks/R.framework/Resources/bin/R CMD build --keep-empty-dirs --no-resave-data cellity StartedAt: 2025-11-02 15:52:20 -0500 (Sun, 02 Nov 2025) EndedAt: 2025-11-02 15:52:48 -0500 (Sun, 02 Nov 2025) EllapsedTime: 28.3 seconds RetCode: 0 Status: OK PackageFile: cellity_1.38.0.tar.gz PackageFileSize: 1.245 MiB