Package: cellbaseR Version: 1.34.0 Command: /home/biocbuild/R/R/bin/R CMD build --keep-empty-dirs --no-resave-data cellbaseR StartedAt: 2025-11-14 00:22:19 -0000 (Fri, 14 Nov 2025) EndedAt: 2025-11-14 00:23:21 -0000 (Fri, 14 Nov 2025) EllapsedTime: 62.0 seconds RetCode: 0 Status: OK PackageFile: cellbaseR_1.34.0.tar.gz PackageFileSize: 501 KiB