Package: cellbaseR Version: 1.34.0 Command: /home/biocbuild/bbs-3.22-bioc/R/bin/R CMD INSTALL cellbaseR StartedAt: 2025-11-11 15:28:09 -0500 (Tue, 11 Nov 2025) EndedAt: 2025-11-11 15:28:23 -0500 (Tue, 11 Nov 2025) EllapsedTime: 14.1 seconds RetCode: 0 Status: OK