Package: cellbaseR Version: 1.32.0 Command: /home/biocbuild/bbs-3.21-bioc/R/bin/R CMD INSTALL cellbaseR StartedAt: 2025-10-12 15:23:32 -0400 (Sun, 12 Oct 2025) EndedAt: 2025-10-12 15:23:47 -0400 (Sun, 12 Oct 2025) EllapsedTime: 14.6 seconds RetCode: 0 Status: OK