Package: cellbaseR Version: 1.32.0 Command: /home/biocbuild/bbs-3.21-bioc/R/bin/R CMD build --keep-empty-dirs --no-resave-data cellbaseR StartedAt: 2025-10-12 16:37:26 -0400 (Sun, 12 Oct 2025) EndedAt: 2025-10-12 16:38:14 -0400 (Sun, 12 Oct 2025) EllapsedTime: 48.0 seconds RetCode: 0 Status: OK PackageFile: cellbaseR_1.32.0.tar.gz PackageFileSize: 520.5 KiB