Package: cellbaseR Version: 1.32.0 Command: rm -rf cellbaseR.buildbin-libdir && mkdir cellbaseR.buildbin-libdir && /Users/biocbuild/BBS/utils/build-universal.sh cellbaseR_1.32.0.tar.gz /Library/Frameworks/R.framework/Resources/bin/R cellbaseR.buildbin-libdir StartedAt: 2025-04-22 00:37:10 -0400 (Tue, 22 Apr 2025) EndedAt: 2025-04-22 00:37:33 -0400 (Tue, 22 Apr 2025) EllapsedTime: 22.8 seconds RetCode: 0 Status: OK PackageFile: cellbaseR_1.32.0.tgz PackageFileSize: 781.3 KiB