Package: celda Version: 1.26.0 Command: /Library/Frameworks/R.framework/Resources/bin/R CMD INSTALL celda StartedAt: 2025-11-10 15:29:42 -0500 (Mon, 10 Nov 2025) EndedAt: 2025-11-10 15:30:10 -0500 (Mon, 10 Nov 2025) EllapsedTime: 27.9 seconds RetCode: 0 Status: OK