Package: celaref Version: 1.28.0 Command: /home/biocbuild/bbs-3.22-bioc/R/bin/R CMD INSTALL celaref StartedAt: 2025-11-11 15:24:37 -0500 (Tue, 11 Nov 2025) EndedAt: 2025-11-11 15:25:03 -0500 (Tue, 11 Nov 2025) EllapsedTime: 26.2 seconds RetCode: 0 Status: OK