Package: celaref Version: 1.28.0 Command: /home/biocbuild/bbs-3.22-bioc/R/bin/R CMD build --keep-empty-dirs --no-resave-data --md5 celaref StartedAt: 2025-11-11 16:45:54 -0500 (Tue, 11 Nov 2025) EndedAt: 2025-11-11 16:48:40 -0500 (Tue, 11 Nov 2025) EllapsedTime: 166.1 seconds RetCode: 0 Status: OK PackageFile: celaref_1.28.0.tar.gz PackageFileSize: 2.969 MiB