Package: celaref Version: 1.26.0 Command: /home/biocbuild/R/R/bin/R CMD INSTALL celaref StartedAt: 2025-10-13 20:34:48 -0000 (Mon, 13 Oct 2025) EndedAt: 2025-10-13 20:35:26 -0000 (Mon, 13 Oct 2025) EllapsedTime: 38.5 seconds RetCode: 0 Status: OK