Package: celaref Version: 1.28.0 Command: /Library/Frameworks/R.framework/Resources/bin/R CMD INSTALL celaref StartedAt: 2025-11-10 15:13:04 -0500 (Mon, 10 Nov 2025) EndedAt: 2025-11-10 15:13:15 -0500 (Mon, 10 Nov 2025) EllapsedTime: 11.1 seconds RetCode: 0 Status: OK