Package: celaref Version: 1.28.0 Command: /Library/Frameworks/R.framework/Resources/bin/R CMD build --keep-empty-dirs --no-resave-data celaref StartedAt: 2025-11-10 15:51:48 -0500 (Mon, 10 Nov 2025) EndedAt: 2025-11-10 15:52:49 -0500 (Mon, 10 Nov 2025) EllapsedTime: 61.6 seconds RetCode: 0 Status: OK PackageFile: celaref_1.28.0.tar.gz PackageFileSize: 3.073 MiB