Package: celaref Version: 1.28.0 Command: rm -rf celaref.buildbin-libdir && mkdir celaref.buildbin-libdir && /Users/biocbuild/BBS/utils/build-universal.sh celaref_1.28.0.tar.gz /Library/Frameworks/R.framework/Resources/bin/R celaref.buildbin-libdir StartedAt: 2025-11-10 23:14:01 -0500 (Mon, 10 Nov 2025) EndedAt: 2025-11-10 23:14:13 -0500 (Mon, 10 Nov 2025) EllapsedTime: 12.2 seconds RetCode: 0 Status: OK PackageFile: celaref_1.28.0.tgz PackageFileSize: 3.064 MiB