Package: ceRNAnetsim Version: 1.22.0 Command: /home/biocbuild/R/R/bin/R CMD build --keep-empty-dirs --no-resave-data ceRNAnetsim StartedAt: 2025-11-11 00:21:13 -0000 (Tue, 11 Nov 2025) EndedAt: 2025-11-11 00:27:29 -0000 (Tue, 11 Nov 2025) EllapsedTime: 376.1 seconds RetCode: 0 Status: OK PackageFile: ceRNAnetsim_1.22.0.tar.gz PackageFileSize: 2.865 MiB