Package: ceRNAnetsim Version: 1.22.0 Command: /home/biocbuild/bbs-3.22-bioc/R/bin/R CMD build --keep-empty-dirs --no-resave-data --md5 ceRNAnetsim StartedAt: 2025-11-13 16:47:22 -0500 (Thu, 13 Nov 2025) EndedAt: 2025-11-13 16:51:39 -0500 (Thu, 13 Nov 2025) EllapsedTime: 257.3 seconds RetCode: 0 Status: OK PackageFile: ceRNAnetsim_1.22.0.tar.gz PackageFileSize: 2.969 MiB