Package: ceRNAnetsim Version: 1.20.0 Command: /Library/Frameworks/R.framework/Resources/bin/R CMD INSTALL ceRNAnetsim StartedAt: 2025-10-06 15:14:02 -0400 (Mon, 06 Oct 2025) EndedAt: 2025-10-06 15:14:26 -0400 (Mon, 06 Oct 2025) EllapsedTime: 24.2 seconds RetCode: 0 Status: OK