Package: ceRNAnetsim Version: 1.20.0 Command: /Library/Frameworks/R.framework/Resources/bin/R CMD build --keep-empty-dirs --no-resave-data ceRNAnetsim StartedAt: 2025-10-06 17:43:59 -0400 (Mon, 06 Oct 2025) EndedAt: 2025-10-06 17:54:44 -0400 (Mon, 06 Oct 2025) EllapsedTime: 644.7 seconds RetCode: 0 Status: OK PackageFile: ceRNAnetsim_1.20.0.tar.gz PackageFileSize: 3.057 MiB