Package: ccrepe Version: 1.46.0 Command: /home/biocbuild/bbs-3.22-bioc/R/bin/R CMD INSTALL ccrepe StartedAt: 2025-11-11 15:15:44 -0500 (Tue, 11 Nov 2025) EndedAt: 2025-11-11 15:15:50 -0500 (Tue, 11 Nov 2025) EllapsedTime: 5.9 seconds RetCode: 0 Status: OK