Package: ccrepe Version: 1.46.0 Command: /home/biocbuild/bbs-3.22-bioc/R/bin/R CMD check --install=check:ccrepe.install-out.txt --library=/home/biocbuild/bbs-3.22-bioc/R/site-library --timings ccrepe_1.46.0.tar.gz StartedAt: 2025-11-13 21:58:02 -0500 (Thu, 13 Nov 2025) EndedAt: 2025-11-13 21:58:30 -0500 (Thu, 13 Nov 2025) EllapsedTime: 28.0 seconds RetCode: 1 Status: ERROR CheckDir: ccrepe.Rcheck Warnings: NA