Package: ccrepe Version: 1.44.0 Command: /home/biocbuild/R/R/bin/R CMD INSTALL ccrepe StartedAt: 2025-09-29 20:23:30 -0000 (Mon, 29 Sep 2025) EndedAt: 2025-09-29 20:23:38 -0000 (Mon, 29 Sep 2025) EllapsedTime: 7.5 seconds RetCode: 0 Status: OK