Package: ccrepe Version: 1.44.0 Command: /home/biocbuild/R/R/bin/R CMD build --keep-empty-dirs --no-resave-data ccrepe StartedAt: 2025-09-29 23:24:13 -0000 (Mon, 29 Sep 2025) EndedAt: 2025-09-29 23:24:26 -0000 (Mon, 29 Sep 2025) EllapsedTime: 13.0 seconds RetCode: 0 Status: OK PackageFile: ccrepe_1.44.0.tar.gz PackageFileSize: 292.1 KiB