Package: ccrepe Version: 1.44.0 Command: rm -rf ccrepe.buildbin-libdir && mkdir ccrepe.buildbin-libdir && /Users/biocbuild/BBS/utils/build-universal.sh ccrepe_1.44.0.tar.gz /Library/Frameworks/R.framework/Resources/bin/R ccrepe.buildbin-libdir StartedAt: 2025-10-15 17:44:45 -0400 (Wed, 15 Oct 2025) EndedAt: 2025-10-15 17:44:50 -0400 (Wed, 15 Oct 2025) EllapsedTime: 4.6 seconds RetCode: 0 Status: OK PackageFile: ccrepe_1.44.0.tgz PackageFileSize: 360.1 KiB