Package: ccmap Version: 1.36.0 Command: /home/biocbuild/bbs-3.22-bioc/R/bin/R CMD build --keep-empty-dirs --no-resave-data --md5 ccmap StartedAt: 2025-11-11 16:45:08 -0500 (Tue, 11 Nov 2025) EndedAt: 2025-11-11 16:45:25 -0500 (Tue, 11 Nov 2025) EllapsedTime: 17.0 seconds RetCode: 1 Status: ERROR PackageFile: None PackageFileSize: NA