Package: ccmap Version: 1.36.0 Command: /Library/Frameworks/R.framework/Resources/bin/R CMD build --keep-empty-dirs --no-resave-data ccmap StartedAt: 2025-11-03 16:22:20 -0500 (Mon, 03 Nov 2025) EndedAt: 2025-11-03 16:22:38 -0500 (Mon, 03 Nov 2025) EllapsedTime: 18.3 seconds RetCode: 1 Status: ERROR PackageFile: None PackageFileSize: NA