Package: ccmap Version: 1.34.0 Command: /home/biocbuild/R/R/bin/R CMD INSTALL ccmap StartedAt: 2025-10-06 20:43:15 -0000 (Mon, 06 Oct 2025) EndedAt: 2025-10-06 20:43:37 -0000 (Mon, 06 Oct 2025) EllapsedTime: 22.2 seconds RetCode: 0 Status: OK