Package: ccmap Version: 1.34.0 Command: /home/biocbuild/R/R/bin/R CMD build --keep-empty-dirs --no-resave-data ccmap StartedAt: 2025-10-06 23:23:46 -0000 (Mon, 06 Oct 2025) EndedAt: 2025-10-06 23:26:43 -0000 (Mon, 06 Oct 2025) EllapsedTime: 177.0 seconds RetCode: 0 Status: OK PackageFile: ccmap_1.34.0.tar.gz PackageFileSize: 471.1 KiB