Package: ccmap Version: 1.36.0 Command: /Library/Frameworks/R.framework/Resources/bin/R CMD INSTALL ccmap StartedAt: 2025-11-10 15:09:24 -0500 (Mon, 10 Nov 2025) EndedAt: 2025-11-10 15:09:31 -0500 (Mon, 10 Nov 2025) EllapsedTime: 6.9 seconds RetCode: 0 Status: OK