Package: ccmap Version: 1.36.0 Command: /Library/Frameworks/R.framework/Resources/bin/R CMD build --keep-empty-dirs --no-resave-data ccmap StartedAt: 2025-11-10 15:51:27 -0500 (Mon, 10 Nov 2025) EndedAt: 2025-11-10 15:51:34 -0500 (Mon, 10 Nov 2025) EllapsedTime: 7.1 seconds RetCode: 1 Status: ERROR PackageFile: None PackageFileSize: NA