Package: ccmap Version: 1.34.0 Command: /Library/Frameworks/R.framework/Resources/bin/R CMD INSTALL ccmap StartedAt: 2025-10-13 15:51:39 -0400 (Mon, 13 Oct 2025) EndedAt: 2025-10-13 15:51:57 -0400 (Mon, 13 Oct 2025) EllapsedTime: 18.2 seconds RetCode: 0 Status: OK