Package: ccmap Version: 1.34.0 Command: /Library/Frameworks/R.framework/Resources/bin/R CMD build --keep-empty-dirs --no-resave-data ccmap StartedAt: 2025-10-13 20:39:33 -0400 (Mon, 13 Oct 2025) EndedAt: 2025-10-13 20:42:22 -0400 (Mon, 13 Oct 2025) EllapsedTime: 169.4 seconds RetCode: 0 Status: OK PackageFile: ccmap_1.34.0.tar.gz PackageFileSize: 444.4 KiB