Package: ccmap Version: 1.34.0 Command: rm -rf ccmap.buildbin-libdir && mkdir ccmap.buildbin-libdir && /Users/biocbuild/BBS/utils/build-universal.sh ccmap_1.34.0.tar.gz /Library/Frameworks/R.framework/Resources/bin/R ccmap.buildbin-libdir StartedAt: 2025-10-15 17:44:24 -0400 (Wed, 15 Oct 2025) EndedAt: 2025-10-15 17:44:45 -0400 (Wed, 15 Oct 2025) EllapsedTime: 20.5 seconds RetCode: 0 Status: OK PackageFile: ccmap_1.34.0.tgz PackageFileSize: 418.5 KiB