Package: ccfindR Version: 1.30.0 Command: /home/biocbuild/bbs-3.22-bioc/R/bin/R CMD INSTALL ccfindR StartedAt: 2025-11-11 15:23:31 -0500 (Tue, 11 Nov 2025) EndedAt: 2025-11-11 15:24:19 -0500 (Tue, 11 Nov 2025) EllapsedTime: 48.2 seconds RetCode: 0 Status: OK