Package: ccfindR Version: 1.30.0 Command: /home/biocbuild/bbs-3.22-bioc/R/bin/R CMD build --keep-empty-dirs --no-resave-data --md5 ccfindR StartedAt: 2025-11-13 16:41:50 -0500 (Thu, 13 Nov 2025) EndedAt: 2025-11-13 16:45:16 -0500 (Thu, 13 Nov 2025) EllapsedTime: 206.1 seconds RetCode: 0 Status: OK PackageFile: ccfindR_1.30.0.tar.gz PackageFileSize: 1.186 MiB