Package: ccImpute Version: 1.12.0 Command: /home/biocbuild/bbs-3.22-bioc/R/bin/R CMD INSTALL ccImpute StartedAt: 2025-11-17 17:36:21 -0500 (Mon, 17 Nov 2025) EndedAt: 2025-11-17 17:37:07 -0500 (Mon, 17 Nov 2025) EllapsedTime: 46.2 seconds RetCode: 0 Status: OK