Package: cbpManager Version: 1.18.0 Command: /home/biocbuild/bbs-3.22-bioc/R/bin/R CMD INSTALL cbpManager StartedAt: 2025-11-11 15:15:33 -0500 (Tue, 11 Nov 2025) EndedAt: 2025-11-11 15:15:47 -0500 (Tue, 11 Nov 2025) EllapsedTime: 14.7 seconds RetCode: 0 Status: OK