Package: cbaf Version: 1.32.0 Command: /home/biocbuild/bbs-3.22-bioc/R/bin/R CMD build --keep-empty-dirs --no-resave-data --md5 cbaf StartedAt: 2025-11-11 16:44:06 -0500 (Tue, 11 Nov 2025) EndedAt: 2025-11-11 16:45:17 -0500 (Tue, 11 Nov 2025) EllapsedTime: 71.1 seconds RetCode: 0 Status: OK PackageFile: cbaf_1.32.0.tar.gz PackageFileSize: 787.5 KiB