Package: cbaf Version: 1.32.0 Command: /Library/Frameworks/R.framework/Resources/bin/R CMD INSTALL cbaf StartedAt: 2025-11-03 15:23:21 -0500 (Mon, 03 Nov 2025) EndedAt: 2025-11-03 15:23:39 -0500 (Mon, 03 Nov 2025) EllapsedTime: 17.6 seconds RetCode: 0 Status: OK